BEGIN:VCALENDAR
VERSION:2.0
PRODID:-//Tukios.com/
BEGIN:VEVENT
UID:0af24eb0-5d16-45f6-9239-b743f65e533e@www.marcfburrfuneralhome.com
DTSTAMP:20260422T232220Z
DTSTART:20260424T140000Z
DTEND:20260424T143000Z
SUMMARY:Graveside Service
DESCRIPTION:Please meet at the cemetery.
URL:https://www.marcfburrfuneralhome.com/obituaries/roger-jones-sr
LOCATION: 2844 Hubbard Road  Madison OH 44057
GEO:41.7975623;-81.049272
END:VEVENT
END:VCALENDAR