BEGIN:VCALENDAR
VERSION:2.0
PRODID:-//Tukios.com/
BEGIN:VEVENT
UID:ed5bcbb4-0500-4fa7-bfff-4f221befc7e5@www.marcfburrfuneralhome.com
DTSTAMP:20260421T113230Z
DTSTART:20260425T140000Z
DTEND:20260425T150000Z
SUMMARY:Mass
DESCRIPTION:There will be a private, family graveside service at a later 
	date.
URL:https://www.marcfburrfuneralhome.com/obituaries/diane-munroe-wodyka
LOCATION: 401 North St  Chardon OH 44024
GEO:41.5888016;-81.2049538
END:VEVENT
END:VCALENDAR