BEGIN:VCALENDAR
VERSION:2.0
PRODID:-//Tukios.com/
BEGIN:VEVENT
UID:e2709946-788c-4380-b7d8-e735ab64c714@www.marcfburrfuneralhome.com
DTSTAMP:20260421T113933Z
DTSTART:20260425T130000Z
DTEND:20260425T140000Z
SUMMARY:Visitation
DESCRIPTION:Located within the back entrance to St. Mary Church in 
	Chardon in the Hospitality Room.
URL:https://www.marcfburrfuneralhome.com/obituaries/diane-munroe-wodyka
LOCATION: 401 North St  Chardon OH 44024
GEO:41.5888016;-81.2049538
END:VEVENT
END:VCALENDAR